BEGIN:VCALENDAR
VERSION:2.0
PRODID:-//HISTEDUP - ECPv5.1.5//NONSGML v1.0//EN
CALSCALE:GREGORIAN
METHOD:PUBLISH
X-WR-CALNAME:HISTEDUP
X-ORIGINAL-URL:https://histedup.com
X-WR-CALDESC:Events for HISTEDUP
BEGIN:VTIMEZONE
TZID:UTC
BEGIN:STANDARD
TZOFFSETFROM:+0000
TZOFFSETTO:+0000
TZNAME:UTC
DTSTART:20240101T000000
END:STANDARD
END:VTIMEZONE
BEGIN:VEVENT
DTSTART;VALUE=DATE:20240911
DTEND;VALUE=DATE:20240914
DTSTAMP:20260421T094014
CREATED:20240112T113714Z
LAST-MODIFIED:20240112T115000Z
UID:874-1726012800-1726271999@histedup.com
SUMMARY:XXII Coloquio de Historia de la Educación\, Sociedad Española de Historia de la Educación (SEDHE): Lo transnacional y transcultural en la historia de la Educación durante la modernidad y la contemporaneidade
DESCRIPTION:XXII Coloquio de Historia de la Educación\, Sociedad Española de Historia de la Educación (SEDHE): Lo transnacional y transcultural en la historia de la Educación durante la modernidad y la contemporaneidade\nPara mais informação\, clique aqui. \n  \n
URL:https://histedup.com/evento/xxii-coloquio-de-historia-de-la-educacion-sociedad-espanola-de-historia-de-la-educacion-sedhe-lo-transnacional-y-transcultural-en-la-historia-de-la-educacion-durante-la-modernidad-y-la-contemporan/
LOCATION:Almería\, Espanha
CATEGORIES:Colóquio
END:VEVENT
END:VCALENDAR