BEGIN:VCALENDAR
VERSION:2.0
PRODID:-//HISTEDUP - ECPv5.1.5//NONSGML v1.0//EN
CALSCALE:GREGORIAN
METHOD:PUBLISH
X-WR-CALNAME:HISTEDUP
X-ORIGINAL-URL:https://histedup.com
X-WR-CALDESC:Events for HISTEDUP
BEGIN:VTIMEZONE
TZID:UTC
BEGIN:STANDARD
TZOFFSETFROM:+0000
TZOFFSETTO:+0000
TZNAME:UTC
DTSTART:20220101T000000
END:STANDARD
END:VTIMEZONE
BEGIN:VEVENT
DTSTART;TZID=UTC:20220706T000000
DTEND;TZID=UTC:20220708T000000
DTSTAMP:20260422T101559
CREATED:20210925T174723Z
LAST-MODIFIED:20210925T174723Z
UID:658-1657065600-1657238400@histedup.com
SUMMARY:XXI COLÓQUIO DE HISTÓRIA DA EDUCAÇÃO
DESCRIPTION:PEDAGOGÍAS ALTERNATIVAS Y EDUCACIÓN EN LOS MÁRGENES\nUniversitat de València\, 7-9 de julio de 2022 \n
URL:https://histedup.com/evento/xxi-coloquio-de-historia-da-educacao/
CATEGORIES:Colóquio
END:VEVENT
END:VCALENDAR