BEGIN:VCALENDAR
VERSION:2.0
PRODID:-//HISTEDUP - ECPv5.1.5//NONSGML v1.0//EN
CALSCALE:GREGORIAN
METHOD:PUBLISH
X-WR-CALNAME:HISTEDUP
X-ORIGINAL-URL:https://histedup.com
X-WR-CALDESC:Events for HISTEDUP
BEGIN:VTIMEZONE
TZID:UTC
BEGIN:STANDARD
TZOFFSETFROM:+0000
TZOFFSETTO:+0000
TZNAME:UTC
DTSTART:20210101T000000
END:STANDARD
END:VTIMEZONE
BEGIN:VEVENT
DTSTART;VALUE=DATE:20210224
DTEND;VALUE=DATE:20210228
DTSTAMP:20260422T165528
CREATED:20200801T113113Z
LAST-MODIFIED:20200801T113223Z
UID:600-1614124800-1614470399@histedup.com
SUMMARY:XII Congresso Luso-Brasileiro de História da Educação
DESCRIPTION:\nFoi decidido\, conjuntamente\, alterar a data do COLUBHE para o início do ano de 2021\, entre os meses de fevereiro e março. A definição mais precisa da data dependerá da disponibilidade do local do evento\, o Liceu Cuiabano. \nCabe explicar que a decisão pelo início do ano deve-se aos prazos estabelecidos pelas agências de fomento que apoiarão o COLUBHE. \n  \n\n
URL:https://histedup.com/evento/xii-congresso-luso-brasileiro-de-historia-da-educacao-3/
LOCATION:Universidade Federal de Mato Grosso – UFMT\, Brasil
CATEGORIES:Congresso
ATTACH;FMTTYPE=image/png:https://histedup.com/wp-content/uploads/2020/08/Colubhe2020-1.png
END:VEVENT
END:VCALENDAR