BEGIN:VCALENDAR
VERSION:2.0
PRODID:-//HISTEDUP - ECPv5.1.5//NONSGML v1.0//EN
CALSCALE:GREGORIAN
METHOD:PUBLISH
X-WR-CALNAME:HISTEDUP
X-ORIGINAL-URL:https://histedup.com
X-WR-CALDESC:Events for HISTEDUP
BEGIN:VTIMEZONE
TZID:UTC
BEGIN:STANDARD
TZOFFSETFROM:+0000
TZOFFSETTO:+0000
TZNAME:UTC
DTSTART:20200101T000000
END:STANDARD
END:VTIMEZONE
BEGIN:VEVENT
DTSTART;VALUE=DATE:20200603
DTEND;VALUE=DATE:20200606
DTSTAMP:20260422T201711
CREATED:20190531T142857Z
LAST-MODIFIED:20190531T172858Z
UID:396-1591142400-1591401599@histedup.com
SUMMARY:Simpósio Transferências\, transnacionalização e transformações das políticas educativas (1945-2018)
DESCRIPTION:O objetivo deste simpósio é originar um espaço de análise\, debate e reflexão acerca da importância que tiveram os organismos internacionais nos processos de modernização e mudança das políticas curriculares nos espaços nacionais. À volta de tais processos de transferência educativa\, outro dos propósitos é analisar a conceção filosófica sobre o modelo de sociedade e educação desde que se configurou a visão educativa indicada. Por fim\, trata-se de introduzir novas perspetivas de análise teórica e as direções que assumiram os sistemas educativos no contexto mundial. \nA data limite para envio de propostas é: 1 de setembro de 2019. \nhttp://fahrenhouse.com/conf/index.php/tttep/tttep2020 \n
URL:https://histedup.com/evento/simposio-transferencias-transnacionalizacao-e-transformacoes-das-politicas-educativas-1945-2018/
LOCATION:Tenerife\, Espanha\, Espanha
CATEGORIES:Simpósio
ATTACH;FMTTYPE=image/jpeg:https://histedup.com/wp-content/uploads/2019/05/Teneride-rd_1.jpg
END:VEVENT
END:VCALENDAR