BEGIN:VCALENDAR
VERSION:2.0
PRODID:-//HISTEDUP - ECPv5.1.5//NONSGML v1.0//EN
CALSCALE:GREGORIAN
METHOD:PUBLISH
X-WR-CALNAME:HISTEDUP
X-ORIGINAL-URL:https://histedup.com
X-WR-CALDESC:Events for HISTEDUP
BEGIN:VTIMEZONE
TZID:UTC
BEGIN:STANDARD
TZOFFSETFROM:+0000
TZOFFSETTO:+0000
TZNAME:UTC
DTSTART:20190101T000000
END:STANDARD
END:VTIMEZONE
BEGIN:VEVENT
DTSTART;VALUE=DATE:20190902
DTEND;VALUE=DATE:20190906
DTSTAMP:20260422T222804
CREATED:20190722T085613Z
LAST-MODIFIED:20190729T094241Z
UID:432-1567382400-1567727999@histedup.com
SUMMARY:IX Encontro Ibérico de História da Educação
DESCRIPTION:O IX Encontro Ibérico de História da Educação\, subordinado à interrogação: «A Investigação em História da Educação – novos olhares sobre as fontes na era digital»\, terá lugar em Braga\, na Escola Sá de Miranda\, nos dias 5 a 7 de setembro de 2019\, com o apoio do CITCEM (Centro de Investigação Transdisciplinar Cultura\, Espaço e Memória\, sediado na Faculdade de Letras da Universidade do Porto) e do CIEd (Centro de Investigação em Educação\, no Instituto de Educação da Universidade do Minho). \nNeste sentido\, convidam-se os investigadores e demais interessados a juntarem-se a este evento\, formalizando a sua inscrição no site https://ixencontroiberico.wixsite.com/braga \n
URL:https://histedup.com/evento/ix-encontro-iberico-de-historia-da-educacao/
LOCATION:Escola Sá de Miranda\, Braga\, Braga\, Portugal
CATEGORIES:Encontro
ATTACH;FMTTYPE=image/jpeg:https://histedup.com/wp-content/uploads/2019/07/Ibérico-3-e1566380489142.jpg
END:VEVENT
END:VCALENDAR