BEGIN:VCALENDAR
VERSION:2.0
PRODID:-//HISTEDUP - ECPv5.1.5//NONSGML v1.0//EN
CALSCALE:GREGORIAN
METHOD:PUBLISH
X-WR-CALNAME:HISTEDUP
X-ORIGINAL-URL:https://histedup.com
X-WR-CALDESC:Events for HISTEDUP
BEGIN:VTIMEZONE
TZID:UTC
BEGIN:STANDARD
TZOFFSETFROM:+0000
TZOFFSETTO:+0000
TZNAME:UTC
DTSTART:20220101T000000
END:STANDARD
END:VTIMEZONE
BEGIN:VEVENT
DTSTART;TZID=UTC:20220224T000000
DTEND;TZID=UTC:20220226T000000
DTSTAMP:20260422T134900
CREATED:20210925T173056Z
LAST-MODIFIED:20210925T173325Z
UID:654-1645660800-1645833600@histedup.com
SUMMARY:IV Jornadas de Estudo sobre Imprensa Pedagógica. Congresso Internacional
DESCRIPTION:Congresso Internacional de Prensa Pedagógica de las confesiones religiosas y las sociedades filosóficas – Universidad de Salamanca – 24 e 26 de fevereiro de 2022 \n
URL:https://histedup.com/evento/iv-jornadas-de-estudo-sobre-imprensa-pedagogica-congresso-internacional/
LOCATION:Universidade de Salamanca\, Espanha
END:VEVENT
END:VCALENDAR