BEGIN:VCALENDAR
VERSION:2.0
PRODID:-//HISTEDUP - ECPv5.1.5//NONSGML v1.0//EN
CALSCALE:GREGORIAN
METHOD:PUBLISH
X-WR-CALNAME:HISTEDUP
X-ORIGINAL-URL:https://histedup.com
X-WR-CALDESC:Events for HISTEDUP
BEGIN:VTIMEZONE
TZID:UTC
BEGIN:STANDARD
TZOFFSETFROM:+0000
TZOFFSETTO:+0000
TZNAME:UTC
DTSTART:20250101T000000
END:STANDARD
END:VTIMEZONE
BEGIN:VEVENT
DTSTART;VALUE=DATE:20250708
DTEND;VALUE=DATE:20250712
DTSTAMP:20260421T194904
CREATED:20250110T151511Z
LAST-MODIFIED:20250110T151511Z
UID:929-1751932800-1752278399@histedup.com
SUMMARY:ISCHE 46 | TEACHERS AND TEACHING. HISTORY ON THE MOVE
DESCRIPTION:A 46ª edição da International Standing Conference for the History of Education (ISCHE) ocorrerá de 8 a 11 de julho de 2025 na Universidade de Lille\, França\, com uma extensão online nos dias 15 e 16 de julho. \n  \n
URL:https://histedup.com/evento/ische-46-teachers-and-teaching-history-on-the-move/
LOCATION:Université de Lille\, Lille\, França
END:VEVENT
END:VCALENDAR