BEGIN:VCALENDAR
VERSION:2.0
PRODID:-//HISTEDUP - ECPv5.1.5//NONSGML v1.0//EN
CALSCALE:GREGORIAN
METHOD:PUBLISH
X-WR-CALNAME:HISTEDUP
X-ORIGINAL-URL:https://histedup.com
X-WR-CALDESC:Events for HISTEDUP
BEGIN:VTIMEZONE
TZID:UTC
BEGIN:STANDARD
TZOFFSETFROM:+0000
TZOFFSETTO:+0000
TZNAME:UTC
DTSTART:20220101T000000
END:STANDARD
END:VTIMEZONE
BEGIN:VEVENT
DTSTART;TZID=UTC:20221212T080000
DTEND;TZID=UTC:20221215T200000
DTSTAMP:20260422T101432
CREATED:20221210T080936Z
LAST-MODIFIED:20221210T081846Z
UID:727-1670832000-1671134400@histedup.com
SUMMARY:International Conference The school and its many pasts
DESCRIPTION: \nProgram_International-Conference_The-School-and-Its-Many-Pasts \n
URL:https://histedup.com/evento/international-conference-the-school-and-its-many-pasts/
LOCATION:Macerata\, Itália
END:VEVENT
END:VCALENDAR